BEGIN:VCALENDAR
VERSION:2.0
PRODID:-//Crystal Cove Conservancy - ECPv6.15.20//NONSGML v1.0//EN
CALSCALE:GREGORIAN
METHOD:PUBLISH
X-WR-CALNAME:Crystal Cove Conservancy
X-ORIGINAL-URL:https://crystalcove.org
X-WR-CALDESC:Events for Crystal Cove Conservancy
REFRESH-INTERVAL;VALUE=DURATION:PT1H
X-Robots-Tag:noindex
X-PUBLISHED-TTL:PT1H
BEGIN:VTIMEZONE
TZID:America/Denver
BEGIN:DAYLIGHT
TZOFFSETFROM:-0700
TZOFFSETTO:-0600
TZNAME:MDT
DTSTART:20230312T090000
END:DAYLIGHT
BEGIN:STANDARD
TZOFFSETFROM:-0600
TZOFFSETTO:-0700
TZNAME:MST
DTSTART:20231105T080000
END:STANDARD
BEGIN:DAYLIGHT
TZOFFSETFROM:-0700
TZOFFSETTO:-0600
TZNAME:MDT
DTSTART:20240310T090000
END:DAYLIGHT
BEGIN:STANDARD
TZOFFSETFROM:-0600
TZOFFSETTO:-0700
TZNAME:MST
DTSTART:20241103T080000
END:STANDARD
BEGIN:DAYLIGHT
TZOFFSETFROM:-0700
TZOFFSETTO:-0600
TZNAME:MDT
DTSTART:20250309T090000
END:DAYLIGHT
BEGIN:STANDARD
TZOFFSETFROM:-0600
TZOFFSETTO:-0700
TZNAME:MST
DTSTART:20251102T080000
END:STANDARD
END:VTIMEZONE
BEGIN:VEVENT
DTSTART;TZID=America/Denver:20240504T100000
DTEND;TZID=America/Denver:20240504T160000
DTSTAMP:20260425T050829
CREATED:20240423T224632Z
LAST-MODIFIED:20240425T191533Z
UID:26967-1714816800-1714838400@crystalcove.org
SUMMARY:Art in the Park
DESCRIPTION:Artwork courtesy of: Pamme Turner\, “Art in The Park/Crystal Cove” (Watercolor/12X16)\n  \nCrystal Cove Conservancy and Crystal Cove State Park invite guests to enjoy a day of music and art in Crystal Cove State Park’s Historic District on Saturday\, May 4 from 10:00AM-4:00PM. Guests can shop arts and crafts at a bazaar\, learn about the Acjachemen Nation while basket weaving\, discover the traditional Japanese method of fish printing\, Gyotaku\, interact with a conservation-themed puppet show\, as well as create an art piece of your own with plein air art\, nature drawing\, and more! \nSchedule of activities subject to change leading up to the event. All activities are free to join unless required registration is noted below. $15 day use parking fee applies. \nArts & Crafts Bazaar\n10:00AM-4:00PM\nLocation: Education Commons\nShop gifts\, fine art paintings\, artisan gemstone jewelry\, eco-friendly candles\, hand crafted sustainable jewelry\, and more by local artists! Vendors will include Crystal Cove Conservancy Founder Laura Davick\, Anne Kupillas fine art\, Laura Klepfer art\, Teressa Jackson art\, Novaura Jewelry\, reNvinted Jewelry\, Timothy Pitts photography\, Serenity Candles\, Michael O. Smith illustrations\, Marti Davidson\, David Michael Vaughn multi-sensory fine art\, Gail Poltorak fine art\, and Kimberleigh Wood art. \nPlein Air Art\nTime: 10:00AM-2:00PM\nLocation: Historic District Promenade (located near the Beachcomber) \nNature Drawing\nTime: 10:00-11:00AM\nLocation: Cottage #22 \nSea Life Mosaic Collage \nTime: 11:00AM-12:00PM\nLocation: Cottage #13 \nOrigami\nTime: 12:00-1:00PM\nLocation: Cottage #22 \nGuitar & Banjo Performance\nTime: 12:00PM-1:00PM\nLocation: Visitor’s Center \nGyotaku: Traditional Japanese Fish Printing\nRegistration is REQUIRED for this event.\nTime: 1:00PM-2:00PM\nLocation: Cottage #22\nCost: $20 (all materials included)\nDating back to the mid-1800s\, Gyotaku was originally used by Japanese fisherman as a way to record their extraordinary catches. Traditional Gyotaku consists of swabbing the surface of a fish with calligraphy ink\, called sumi\, created from pine soot and water\, and pressing a sheet of traditional Japanese paper made from mulberry bark\, called washi\, onto the inked surface to produce a print.\nREGISTER HERE! \nNative American Basket Weaving\nRegistration is REQUIRED for this event.\nTime: 2:00-3:00PM\nLocation: Cottage #34 Deck\nCost: $25 (all materials included)\nJoin Jacque Nunez\, a descendent of Crystal Cove’s local tribe\, the Juaneño Band of Mission Indians\, Acjachemen Nation as she shares her cultural history through basket weaving and storytelling.\nREGISTER HERE!\n \nConservation Puppet Show\nTime: 2:00PM-3:00PM\nLocation: Visitor’s Center\nKids and adults alike can participate in a conservation-themed puppet show\, where they will meet some native wildlife at Crystal Cove and learn how we work to protect important native species. \nNative American Basket Weaving\nRegistration is REQUIRED for this event.\nTime: 3:00-4:00PM\nLocation: Cottage #34 Deck\nCost: $25 (all materials included)\nJoin Jacque Nunez\, a descendent of Crystal Cove’s local tribe\, the Juaneño Band of Mission Indians\, Acjachemen Nation as she shares her cultural history through basket weaving and storytelling.\nREGISTER HERE! \nCancellations for registered events:\nAny cancellation requests must be received by Crystal Cove Conservancy at least 72 hours before the start of the event.  No refunds or transfers will be issued for no-shows or for change requests received after this time. You may request a cancellation by emailing info@crystalcove.org. In the event of cancellation on behalf of Crystal Cove Conservancy due to inclement weather or other unforeseen circumstances\, Crystal Cove Conservancy will offer participants the choice of a refund or a transfer to a comparable event\, if available.
URL:https://crystalcove.org/event/art-in-the-park-2024/
LOCATION:Crystal Cove State Park Historic District
ATTACH;FMTTYPE=image/jpeg:https://crystalcove.org/wp-content/uploads/2024/04/Pamme-Turner-Art-in-the-Park-Watercolor-scaled-e1713912370966.jpg
END:VEVENT
BEGIN:VEVENT
DTSTART;TZID=America/Denver:20240528T163000
DTEND;TZID=America/Denver:20240528T183000
DTSTAMP:20260425T050829
CREATED:20240209T195934Z
LAST-MODIFIED:20240516T000307Z
UID:26876-1716913800-1716921000@crystalcove.org
SUMMARY:Speaker Event: Rich German\, Founder of Project O
DESCRIPTION:Join Crystal Cove Conservancy as we fall even more in love with the ocean during a special speaker event featuring marine conservation advocate and Founder of Project O\, Rich German. \nGuests will enjoy a special presentation and Q&A conversation with Rich\, as he highlights the ocean’s beauty and its marine life as seen through his eyes\, while also sharing about the perils our planet faces that impact humans. A post-event reception will be held for guests to mingle\, as they enjoy complimentary light bites and drinks on the deck. \nWhen: Tuesday\, May 28\, 2024 from 4:30-6:30 PM\nWhere: Cottage Check-in Deck in the Crystal Cove State Park Historic District\nParking: Please park in the Los Trancos Parking Lot across PCH. There will be a $15 Day Use fee per vehicle; free with State Parks annual pass. \nEvent is free\, but RSVP is required! Sign-up using the form below. \n**This event takes place outdoors\, so please dress accordingly!**Fill out my LGL Form! \n \n\nABOUT RICH GERMAN\nRich German is an entrepreneur and environmental advocate with an unyielding passion for the ocean. Since 1999 he has been a respected business coach\, speaker\, and best-selling author of three transformative books – including his photo book Blue Laguna\, a visual testament to the marine life he has encountered from his paddleboard. Since 2010\, Rich has paddled an astonishing 30\,000 miles and has documented over 2\,000 awe-inspiring interactions with dolphins and whales. His photographic work has been featured by National Geographic\, The New York Times\, NPR\, The BBC and more.  \nRich’s passion led him to found Project O\, a non-profit organization committed to the protection of our ocean and the fragile life within it. Through its Blue City Network\, his organization guides cities toward regenerative practices\, harmonizing the progress of urban development with the needs of the environment.  \nRich speaks regularly to students in southern California\, inspiring them to fall in love with the ocean and join the efforts to protect the planet. His voice reaches further through his Our Epic Ocean podcast\, where he engages with top experts to address the world’s most pressing challenges.   \nBased in the breathtaking city of Laguna Beach\, California\, Rich exemplifies the remarkable potential of aligning passion and purpose. His journey stands as a testament to the transformative impact one individual can make through love for the planet and more importantly to the massive change possible utilizing the power of collaboration.    \nhttps://project-o.org/  \n  \n 
URL:https://crystalcove.org/event/rich-german-may-2024/
LOCATION:Crystal Cove Cottage Check-in Deck\, #35 Crystal Cove\, Newport Coast\, CA\, 92657\, United States
CATEGORIES:Activities
ATTACH;FMTTYPE=image/jpeg:https://crystalcove.org/wp-content/uploads/2024/01/Rich-German-scaled-e1706133555216.jpg
END:VEVENT
END:VCALENDAR