BEGIN:VCALENDAR
VERSION:2.0
PRODID:-//Crystal Cove Conservancy - ECPv6.15.20//NONSGML v1.0//EN
CALSCALE:GREGORIAN
METHOD:PUBLISH
X-WR-CALNAME:Crystal Cove Conservancy
X-ORIGINAL-URL:https://crystalcove.org
X-WR-CALDESC:Events for Crystal Cove Conservancy
REFRESH-INTERVAL;VALUE=DURATION:PT1H
X-Robots-Tag:noindex
X-PUBLISHED-TTL:PT1H
BEGIN:VTIMEZONE
TZID:America/Denver
BEGIN:DAYLIGHT
TZOFFSETFROM:-0700
TZOFFSETTO:-0600
TZNAME:MDT
DTSTART:20240310T090000
END:DAYLIGHT
BEGIN:STANDARD
TZOFFSETFROM:-0600
TZOFFSETTO:-0700
TZNAME:MST
DTSTART:20241103T080000
END:STANDARD
BEGIN:DAYLIGHT
TZOFFSETFROM:-0700
TZOFFSETTO:-0600
TZNAME:MDT
DTSTART:20250309T090000
END:DAYLIGHT
BEGIN:STANDARD
TZOFFSETFROM:-0600
TZOFFSETTO:-0700
TZNAME:MST
DTSTART:20251102T080000
END:STANDARD
BEGIN:DAYLIGHT
TZOFFSETFROM:-0700
TZOFFSETTO:-0600
TZNAME:MDT
DTSTART:20260308T090000
END:DAYLIGHT
BEGIN:STANDARD
TZOFFSETFROM:-0600
TZOFFSETTO:-0700
TZNAME:MST
DTSTART:20261101T080000
END:STANDARD
BEGIN:DAYLIGHT
TZOFFSETFROM:-0700
TZOFFSETTO:-0600
TZNAME:MDT
DTSTART:20270314T090000
END:DAYLIGHT
BEGIN:STANDARD
TZOFFSETFROM:-0600
TZOFFSETTO:-0700
TZNAME:MST
DTSTART:20271107T080000
END:STANDARD
END:VTIMEZONE
BEGIN:VEVENT
DTSTART;TZID=America/Denver:20251124T080000
DTEND;TZID=America/Denver:20260107T170000
DTSTAMP:20260420T082555
CREATED:20251125T005345Z
LAST-MODIFIED:20251125T010245Z
UID:28755-1763971200-1767805200@crystalcove.org
SUMMARY:Holiday House
DESCRIPTION:A charming\, beachfront space filled with unexpected treasures at Cottage #46.\n\n\n\n\n\n\n\n\n\n\n\n\nSeasonal Exclusive- Join us for our Holiday House November 14 – January 7\nArt is at the heart of this year’s Holiday House\, located in Cottage #46 (The Turquoise Cottage)\, which showcases artwork and artisan-made pieces inspired by Crystal Cove’s cultural and natural heritage. This seasonal gallery and retail space features hand-crafted ornaments\, ocean- and park-themed gifts\, and nature-inspired décor—all celebrating creativity\, conservation\, and the spirit of Crystal Cove. \nOur beachfront shop features treasures from local artists\, ocean-inspired jewelry\, clothing\, beach toys\, gear\, and souvenirs. Most importantly\, every purchase at The Store directly supports Crystal Cove Conservancy\, with all proceeds reinvested into the park’s preservation and The Conservancy’s education and conservation programs. \n \nThe Conservancy Store Hours: Currently open 9AM-5PM daily. Hours may change depending on conditions. Call to confirm.\n \nContact\n949.376.6200 x 203
URL:https://crystalcove.org/event/holiday-house/
ATTACH;FMTTYPE=image/jpeg:https://crystalcove.org/wp-content/uploads/2025/11/LarissaBahrPhotography-1958-scaled.jpg
END:VEVENT
END:VCALENDAR