BEGIN:VCALENDAR
VERSION:2.0
PRODID:-//Crystal Cove Conservancy - ECPv6.15.20//NONSGML v1.0//EN
CALSCALE:GREGORIAN
METHOD:PUBLISH
X-ORIGINAL-URL:https://crystalcove.org
X-WR-CALDESC:Events for Crystal Cove Conservancy
REFRESH-INTERVAL;VALUE=DURATION:PT1H
X-Robots-Tag:noindex
X-PUBLISHED-TTL:PT1H
BEGIN:VTIMEZONE
TZID:America/Denver
BEGIN:DAYLIGHT
TZOFFSETFROM:-0700
TZOFFSETTO:-0600
TZNAME:MDT
DTSTART:20230312T090000
END:DAYLIGHT
BEGIN:STANDARD
TZOFFSETFROM:-0600
TZOFFSETTO:-0700
TZNAME:MST
DTSTART:20231105T080000
END:STANDARD
BEGIN:DAYLIGHT
TZOFFSETFROM:-0700
TZOFFSETTO:-0600
TZNAME:MDT
DTSTART:20240310T090000
END:DAYLIGHT
BEGIN:STANDARD
TZOFFSETFROM:-0600
TZOFFSETTO:-0700
TZNAME:MST
DTSTART:20241103T080000
END:STANDARD
BEGIN:DAYLIGHT
TZOFFSETFROM:-0700
TZOFFSETTO:-0600
TZNAME:MDT
DTSTART:20250309T090000
END:DAYLIGHT
BEGIN:STANDARD
TZOFFSETFROM:-0600
TZOFFSETTO:-0700
TZNAME:MST
DTSTART:20251102T080000
END:STANDARD
END:VTIMEZONE
BEGIN:VEVENT
DTSTART;TZID=America/Denver:20240625T103000
DTEND;TZID=America/Denver:20240625T133000
DTSTAMP:20260425T061704
CREATED:20240523T190212Z
LAST-MODIFIED:20240610T220022Z
UID:27063-1719311400-1719322200@crystalcove.org
SUMMARY:Tuesdays in the Commons
DESCRIPTION:Stop by the Education Commons in the Crystal Cove State Park Historic District each week on Tuesday for new hands-on educational activities that will help participants learn about ongoing conservation work at the park\, the critical habitats at Crystal Cove\, and how it all connects with landscape scale efforts to protect and preserve the natural world.
URL:https://crystalcove.org/event/tuesdays-6-25-2024/
LOCATION:Education Commons\, 5 Crystal Cove\, Newport Coast\, CA\, 92657\, United States
CATEGORIES:Activities
ATTACH;FMTTYPE=image/jpeg:https://crystalcove.org/wp-content/uploads/2024/05/DSC2023-e1716007192241.jpg
END:VEVENT
END:VCALENDAR