BEGIN:VCALENDAR
VERSION:2.0
PRODID:-//Crystal Cove Conservancy - ECPv6.15.20//NONSGML v1.0//EN
CALSCALE:GREGORIAN
METHOD:PUBLISH
X-WR-CALNAME:Crystal Cove Conservancy
X-ORIGINAL-URL:https://crystalcove.org
X-WR-CALDESC:Events for Crystal Cove Conservancy
REFRESH-INTERVAL;VALUE=DURATION:PT1H
X-Robots-Tag:noindex
X-PUBLISHED-TTL:PT1H
BEGIN:VTIMEZONE
TZID:America/Denver
BEGIN:DAYLIGHT
TZOFFSETFROM:-0700
TZOFFSETTO:-0600
TZNAME:MDT
DTSTART:20230312T090000
END:DAYLIGHT
BEGIN:STANDARD
TZOFFSETFROM:-0600
TZOFFSETTO:-0700
TZNAME:MST
DTSTART:20231105T080000
END:STANDARD
BEGIN:DAYLIGHT
TZOFFSETFROM:-0700
TZOFFSETTO:-0600
TZNAME:MDT
DTSTART:20240310T090000
END:DAYLIGHT
BEGIN:STANDARD
TZOFFSETFROM:-0600
TZOFFSETTO:-0700
TZNAME:MST
DTSTART:20241103T080000
END:STANDARD
BEGIN:DAYLIGHT
TZOFFSETFROM:-0700
TZOFFSETTO:-0600
TZNAME:MDT
DTSTART:20250309T090000
END:DAYLIGHT
BEGIN:STANDARD
TZOFFSETFROM:-0600
TZOFFSETTO:-0700
TZNAME:MST
DTSTART:20251102T080000
END:STANDARD
END:VTIMEZONE
BEGIN:VEVENT
DTSTART;TZID=America/Denver:20240615T160000
DTEND;TZID=America/Denver:20240615T200000
DTSTAMP:20260425T061334
CREATED:20240523T190110Z
LAST-MODIFIED:20240523T190110Z
UID:27035-1718467200-1718481600@crystalcove.org
SUMMARY:California State Parks Week: Celebrate Crystal Cove State Park’s Natural & Cultural History
DESCRIPTION:This event is part of California State Parks Week in partnership Crystal Cove State Park \nJoin Crystal Cove State Park and Crystal Cove Conservancy for an afternoon filled with fun and learning\, as we celebrate the cultural history of the park. Participants will take part in a variety of activities exploring the Indigenous history of the area\, learning about the Acjachemen and Tongva People who have been here from time immemorial and continue to call Crystal Cove and surrounding areas their home. \nParking can be found in the Los Trancos Parking Lot. Event is free after the $15 day-use fee. \nFor more information and to register\, visit castateparksweek.org/event-details/#celebrate-crystal-cove-state-park-natural-and-cultural-history
URL:https://crystalcove.org/event/california-state-parks-week-cc-history/
LOCATION:Education Commons\, 5 Crystal Cove\, Newport Coast\, CA\, 92657\, United States
CATEGORIES:Activities
ATTACH;FMTTYPE=image/jpeg:https://crystalcove.org/wp-content/uploads/2024/05/DSC2021-e1715808280319.jpg
END:VEVENT
END:VCALENDAR