BEGIN:VCALENDAR
VERSION:2.0
PRODID:-//Crystal Cove Conservancy - ECPv6.15.20//NONSGML v1.0//EN
CALSCALE:GREGORIAN
METHOD:PUBLISH
X-WR-CALNAME:Crystal Cove Conservancy
X-ORIGINAL-URL:https://crystalcove.org
X-WR-CALDESC:Events for Crystal Cove Conservancy
REFRESH-INTERVAL;VALUE=DURATION:PT1H
X-Robots-Tag:noindex
X-PUBLISHED-TTL:PT1H
BEGIN:VTIMEZONE
TZID:America/Denver
BEGIN:DAYLIGHT
TZOFFSETFROM:-0700
TZOFFSETTO:-0600
TZNAME:MDT
DTSTART:20230312T090000
END:DAYLIGHT
BEGIN:STANDARD
TZOFFSETFROM:-0600
TZOFFSETTO:-0700
TZNAME:MST
DTSTART:20231105T080000
END:STANDARD
BEGIN:DAYLIGHT
TZOFFSETFROM:-0700
TZOFFSETTO:-0600
TZNAME:MDT
DTSTART:20240310T090000
END:DAYLIGHT
BEGIN:STANDARD
TZOFFSETFROM:-0600
TZOFFSETTO:-0700
TZNAME:MST
DTSTART:20241103T080000
END:STANDARD
BEGIN:DAYLIGHT
TZOFFSETFROM:-0700
TZOFFSETTO:-0600
TZNAME:MDT
DTSTART:20250309T090000
END:DAYLIGHT
BEGIN:STANDARD
TZOFFSETFROM:-0600
TZOFFSETTO:-0700
TZNAME:MST
DTSTART:20251102T080000
END:STANDARD
END:VTIMEZONE
BEGIN:VEVENT
DTSTART;TZID=America/Denver:20240127T090000
DTEND;TZID=America/Denver:20240127T140000
DTSTAMP:20260420T054345
CREATED:20230511T165044Z
LAST-MODIFIED:20231108T231854Z
UID:26147-1706346000-1706364000@crystalcove.org
SUMMARY:Welcome to Project Crystal Code Training in Moro Canyon
DESCRIPTION:During Project Crystal Code\, 7th-grade students are invited to explore decomposition and technology’s role in the restoration of coastal sage scrub!  During this multi-week program\, students are introduced to how we can use technology to protect our wild places. Virtual Project Crystal Code builds on ideas from Project Crystal as participants design computer models and construct and code sensors to investigate decomposition and the carbon cycle. \nJoin us from 9am-2pm in Moro Canyon for a professional development workshop for teachers participating in the Project Crystal Code 7th grade program for the 2023-2024 school year. Learn about the new research project students will be studying this year\, and how to incorporate the curriculum into your classroom.  \nLearn more about Project Crystal Code by checking out last year’s project here! \nAdvance registration is required. Register for this training below: \nFill out my LGL Form!
URL:https://crystalcove.org/event/2023-2024-welcome-to-project-crystal-code-training-in-moro-canyon/
CATEGORIES:Education
ATTACH;FMTTYPE=image/jpeg:https://crystalcove.org/wp-content/uploads/2021/08/IMG_2972-e1699485527624.jpeg
END:VEVENT
END:VCALENDAR