BEGIN:VCALENDAR
VERSION:2.0
PRODID:-//Crystal Cove Conservancy - ECPv6.15.20//NONSGML v1.0//EN
CALSCALE:GREGORIAN
METHOD:PUBLISH
X-ORIGINAL-URL:https://crystalcove.org
X-WR-CALDESC:Events for Crystal Cove Conservancy
REFRESH-INTERVAL;VALUE=DURATION:PT1H
X-Robots-Tag:noindex
X-PUBLISHED-TTL:PT1H
BEGIN:VTIMEZONE
TZID:America/Denver
BEGIN:DAYLIGHT
TZOFFSETFROM:-0700
TZOFFSETTO:-0600
TZNAME:MDT
DTSTART:20210314T090000
END:DAYLIGHT
BEGIN:STANDARD
TZOFFSETFROM:-0600
TZOFFSETTO:-0700
TZNAME:MST
DTSTART:20211107T080000
END:STANDARD
BEGIN:DAYLIGHT
TZOFFSETFROM:-0700
TZOFFSETTO:-0600
TZNAME:MDT
DTSTART:20220313T090000
END:DAYLIGHT
BEGIN:STANDARD
TZOFFSETFROM:-0600
TZOFFSETTO:-0700
TZNAME:MST
DTSTART:20221106T080000
END:STANDARD
BEGIN:DAYLIGHT
TZOFFSETFROM:-0700
TZOFFSETTO:-0600
TZNAME:MDT
DTSTART:20230312T090000
END:DAYLIGHT
BEGIN:STANDARD
TZOFFSETFROM:-0600
TZOFFSETTO:-0700
TZNAME:MST
DTSTART:20231105T080000
END:STANDARD
END:VTIMEZONE
BEGIN:VEVENT
DTSTART;TZID=America/Denver:20220810T143000
DTEND;TZID=America/Denver:20220810T160000
DTSTAMP:20260422T110739
CREATED:20220705T215927Z
LAST-MODIFIED:20220707T220425Z
UID:24913-1660141800-1660147200@crystalcove.org
SUMMARY:Historic District Tour
DESCRIPTION:Explore Crystal Cove like you never have before! Guests join Crystal Cove Conservancy staff on a walking tour of the Historic District in Crystal Cove State Park. Learn about the park’s history\, stories\, and even get a peek inside of one of the park’s historic cottages! All ages welcome\, 15 participant max. \nTime: 2:30pm-4:00pm\nLocation: Education Commons in the Crystal Cove State Park Historic District\nPrice: Free\nParking: $15 Day Use fee per vehicle \nRegistration below required. Be prepared with closed toed shoes and to walk on slightly uneven\, mostly flat terrain. All participants under 16 must be accompanied by an adult. \nThis event is SOLD OUT. Please keep an eye on our newsletter for future dates! 
URL:https://crystalcove.org/event/historic-district-tour-2/
LOCATION:Education Commons\, 5 Crystal Cove\, Newport Coast\, CA\, 92657\, United States
END:VEVENT
END:VCALENDAR